BEGIN:VCALENDAR
VERSION:2.0
PRODID:-//Yakima Valley Farm Workers Clinic - ECPv6.15.20//NONSGML v1.0//EN
CALSCALE:GREGORIAN
METHOD:PUBLISH
X-ORIGINAL-URL:https://www.yvfwc.com
X-WR-CALDESC:Events for Yakima Valley Farm Workers Clinic
REFRESH-INTERVAL;VALUE=DURATION:PT1H
X-Robots-Tag:noindex
X-PUBLISHED-TTL:PT1H
BEGIN:VTIMEZONE
TZID:America/Los_Angeles
BEGIN:DAYLIGHT
TZOFFSETFROM:-0800
TZOFFSETTO:-0700
TZNAME:PDT
DTSTART:20240310T100000
END:DAYLIGHT
BEGIN:STANDARD
TZOFFSETFROM:-0700
TZOFFSETTO:-0800
TZNAME:PST
DTSTART:20241103T090000
END:STANDARD
BEGIN:DAYLIGHT
TZOFFSETFROM:-0800
TZOFFSETTO:-0700
TZNAME:PDT
DTSTART:20250309T100000
END:DAYLIGHT
BEGIN:STANDARD
TZOFFSETFROM:-0700
TZOFFSETTO:-0800
TZNAME:PST
DTSTART:20251102T090000
END:STANDARD
BEGIN:DAYLIGHT
TZOFFSETFROM:-0800
TZOFFSETTO:-0700
TZNAME:PDT
DTSTART:20260308T100000
END:DAYLIGHT
BEGIN:STANDARD
TZOFFSETFROM:-0700
TZOFFSETTO:-0800
TZNAME:PST
DTSTART:20261101T090000
END:STANDARD
END:VTIMEZONE
BEGIN:VEVENT
DTSTART;TZID=America/Los_Angeles:20250919T143000
DTEND;TZID=America/Los_Angeles:20250919T173000
DTSTAMP:20260423T101137
CREATED:20250805T205602Z
LAST-MODIFIED:20250805T205612Z
UID:10002124-1758292200-1758303000@www.yvfwc.com
SUMMARY:Career Fair: Coastal Family Health Center
DESCRIPTION:Join us for information on our current job openings for our new clinic. We are hiring for front office positions\, Dental Assistants\, Dental Hygienists\, Pharmacy Techs/Assistants\, Medical Assistants\, RNs\, Mental Health Therapists\, and more! \nBring your resume and take the next step in your career with Coastal Family Health Center
URL:https://www.yvfwc.com/event/career-fair-coastal-family-health-center/
LOCATION:Coastal Family Health Center\, 2275 Commercial St\, Astoria\, OR\, 97103\, United States
ATTACH;FMTTYPE=image/png:https://www.yvfwc.com/wp-content/uploads/2025/02/YVFWC_Icon-CMYK-Large-01.png
END:VEVENT
END:VCALENDAR