BEGIN:VCALENDAR
VERSION:2.0
PRODID:-//Yakima Valley Farm Workers Clinic - ECPv6.15.20//NONSGML v1.0//EN
CALSCALE:GREGORIAN
METHOD:PUBLISH
X-WR-CALNAME:Yakima Valley Farm Workers Clinic
X-ORIGINAL-URL:https://www.yvfwc.com
X-WR-CALDESC:Events for Yakima Valley Farm Workers Clinic
REFRESH-INTERVAL;VALUE=DURATION:PT1H
X-Robots-Tag:noindex
X-PUBLISHED-TTL:PT1H
BEGIN:VTIMEZONE
TZID:America/Los_Angeles
BEGIN:DAYLIGHT
TZOFFSETFROM:-0800
TZOFFSETTO:-0700
TZNAME:PDT
DTSTART:20240310T100000
END:DAYLIGHT
BEGIN:STANDARD
TZOFFSETFROM:-0700
TZOFFSETTO:-0800
TZNAME:PST
DTSTART:20241103T090000
END:STANDARD
BEGIN:DAYLIGHT
TZOFFSETFROM:-0800
TZOFFSETTO:-0700
TZNAME:PDT
DTSTART:20250309T100000
END:DAYLIGHT
BEGIN:STANDARD
TZOFFSETFROM:-0700
TZOFFSETTO:-0800
TZNAME:PST
DTSTART:20251102T090000
END:STANDARD
BEGIN:DAYLIGHT
TZOFFSETFROM:-0800
TZOFFSETTO:-0700
TZNAME:PDT
DTSTART:20260308T100000
END:DAYLIGHT
BEGIN:STANDARD
TZOFFSETFROM:-0700
TZOFFSETTO:-0800
TZNAME:PST
DTSTART:20261101T090000
END:STANDARD
END:VTIMEZONE
BEGIN:VEVENT
DTSTART;TZID=America/Los_Angeles:20251115T090000
DTEND;TZID=America/Los_Angeles:20251115T150000
DTSTAMP:20260423T221154
CREATED:20251016T172432Z
LAST-MODIFIED:20251103T235147Z
UID:10002235-1763197200-1763218800@www.yvfwc.com
SUMMARY:Lancaster Family Health Center at Lancaster - Flu Clinic
DESCRIPTION:Help fight off the flu with a timely in-and-out trip to the clinic.
URL:https://www.yvfwc.com/event/lancaster-family-health-center-at-lancaster-flu-clinic/2025-11-15/
LOCATION:Lancaster Family Health Center\, 255 Lancaster Drive NE\, Salem\, OR\, 97301\, United States
CATEGORIES:Vaccinations
ATTACH;FMTTYPE=image/jpeg:https://www.yvfwc.com/wp-content/uploads/2024/05/lancaster-family-health-center.jpg
END:VEVENT
BEGIN:VEVENT
DTSTART;TZID=America/Los_Angeles:20251113T140000
DTEND;TZID=America/Los_Angeles:20251113T180000
DTSTAMP:20260423T221154
CREATED:20251016T172432Z
LAST-MODIFIED:20251103T235147Z
UID:10002239-1763042400-1763056800@www.yvfwc.com
SUMMARY:Lancaster Family Health Center at Lancaster - Flu Clinic
DESCRIPTION:Help fight off the flu with a timely in-and-out trip to the clinic.
URL:https://www.yvfwc.com/event/lancaster-family-health-center-at-lancaster-flu-clinic/2025-11-13/
LOCATION:Lancaster Family Health Center\, 255 Lancaster Drive NE\, Salem\, OR\, 97301\, United States
CATEGORIES:Vaccinations
ATTACH;FMTTYPE=image/jpeg:https://www.yvfwc.com/wp-content/uploads/2024/05/lancaster-family-health-center.jpg
END:VEVENT
BEGIN:VEVENT
DTSTART;TZID=America/Los_Angeles:20251111T140000
DTEND;TZID=America/Los_Angeles:20251111T180000
DTSTAMP:20260423T221154
CREATED:20251016T172432Z
LAST-MODIFIED:20251103T235147Z
UID:10002182-1762869600-1762884000@www.yvfwc.com
SUMMARY:Lancaster Family Health Center at Lancaster - Flu Clinic
DESCRIPTION:Help fight off the flu with a timely in-and-out trip to the clinic.
URL:https://www.yvfwc.com/event/lancaster-family-health-center-at-lancaster-flu-clinic/2025-11-11/
LOCATION:Lancaster Family Health Center\, 255 Lancaster Drive NE\, Salem\, OR\, 97301\, United States
CATEGORIES:Vaccinations
ATTACH;FMTTYPE=image/jpeg:https://www.yvfwc.com/wp-content/uploads/2024/05/lancaster-family-health-center.jpg
END:VEVENT
BEGIN:VEVENT
DTSTART;TZID=America/Los_Angeles:20251106T140000
DTEND;TZID=America/Los_Angeles:20251106T180000
DTSTAMP:20260423T221154
CREATED:20251016T172432Z
LAST-MODIFIED:20251103T235147Z
UID:10002238-1762437600-1762452000@www.yvfwc.com
SUMMARY:Lancaster Family Health Center at Lancaster - Flu Clinic
DESCRIPTION:Help fight off the flu with a timely in-and-out trip to the clinic.
URL:https://www.yvfwc.com/event/lancaster-family-health-center-at-lancaster-flu-clinic/2025-11-06/
LOCATION:Lancaster Family Health Center\, 255 Lancaster Drive NE\, Salem\, OR\, 97301\, United States
CATEGORIES:Vaccinations
ATTACH;FMTTYPE=image/jpeg:https://www.yvfwc.com/wp-content/uploads/2024/05/lancaster-family-health-center.jpg
END:VEVENT
BEGIN:VEVENT
DTSTART;TZID=America/Los_Angeles:20251104T140000
DTEND;TZID=America/Los_Angeles:20251104T180000
DTSTAMP:20260423T221154
CREATED:20251016T172432Z
LAST-MODIFIED:20251103T235147Z
UID:10002181-1762264800-1762279200@www.yvfwc.com
SUMMARY:Lancaster Family Health Center at Lancaster - Flu Clinic
DESCRIPTION:Help fight off the flu with a timely in-and-out trip to the clinic.
URL:https://www.yvfwc.com/event/lancaster-family-health-center-at-lancaster-flu-clinic/2025-11-04/
LOCATION:Lancaster Family Health Center\, 255 Lancaster Drive NE\, Salem\, OR\, 97301\, United States
CATEGORIES:Vaccinations
ATTACH;FMTTYPE=image/jpeg:https://www.yvfwc.com/wp-content/uploads/2024/05/lancaster-family-health-center.jpg
END:VEVENT
BEGIN:VEVENT
DTSTART;TZID=America/Los_Angeles:20251030T140000
DTEND;TZID=America/Los_Angeles:20251030T180000
DTSTAMP:20260423T221154
CREATED:20251016T172432Z
LAST-MODIFIED:20251103T235147Z
UID:10002237-1761832800-1761847200@www.yvfwc.com
SUMMARY:Lancaster Family Health Center at Lancaster - Flu Clinic
DESCRIPTION:Help fight off the flu with a timely in-and-out trip to the clinic.
URL:https://www.yvfwc.com/event/lancaster-family-health-center-at-lancaster-flu-clinic/2025-10-30/
LOCATION:Lancaster Family Health Center\, 255 Lancaster Drive NE\, Salem\, OR\, 97301\, United States
CATEGORIES:Vaccinations
ATTACH;FMTTYPE=image/jpeg:https://www.yvfwc.com/wp-content/uploads/2024/05/lancaster-family-health-center.jpg
END:VEVENT
BEGIN:VEVENT
DTSTART;TZID=America/Los_Angeles:20251028T140000
DTEND;TZID=America/Los_Angeles:20251028T180000
DTSTAMP:20260423T221154
CREATED:20251016T172432Z
LAST-MODIFIED:20251103T235147Z
UID:10002180-1761660000-1761674400@www.yvfwc.com
SUMMARY:Lancaster Family Health Center at Lancaster - Flu Clinic
DESCRIPTION:Help fight off the flu with a timely in-and-out trip to the clinic.
URL:https://www.yvfwc.com/event/lancaster-family-health-center-at-lancaster-flu-clinic/2025-10-28/
LOCATION:Lancaster Family Health Center\, 255 Lancaster Drive NE\, Salem\, OR\, 97301\, United States
CATEGORIES:Vaccinations
ATTACH;FMTTYPE=image/jpeg:https://www.yvfwc.com/wp-content/uploads/2024/05/lancaster-family-health-center.jpg
END:VEVENT
BEGIN:VEVENT
DTSTART;TZID=America/Los_Angeles:20251023T140000
DTEND;TZID=America/Los_Angeles:20251023T180000
DTSTAMP:20260423T221154
CREATED:20251016T172432Z
LAST-MODIFIED:20251103T235147Z
UID:10002236-1761228000-1761242400@www.yvfwc.com
SUMMARY:Lancaster Family Health Center at Lancaster - Flu Clinic
DESCRIPTION:Help fight off the flu with a timely in-and-out trip to the clinic.
URL:https://www.yvfwc.com/event/lancaster-family-health-center-at-lancaster-flu-clinic/2025-10-23/
LOCATION:Lancaster Family Health Center\, 255 Lancaster Drive NE\, Salem\, OR\, 97301\, United States
CATEGORIES:Vaccinations
ATTACH;FMTTYPE=image/jpeg:https://www.yvfwc.com/wp-content/uploads/2024/05/lancaster-family-health-center.jpg
END:VEVENT
BEGIN:VEVENT
DTSTART;TZID=America/Los_Angeles:20251021T140000
DTEND;TZID=America/Los_Angeles:20251021T180000
DTSTAMP:20260423T221154
CREATED:20251016T172432Z
LAST-MODIFIED:20251103T235147Z
UID:10002179-1761055200-1761069600@www.yvfwc.com
SUMMARY:Lancaster Family Health Center at Lancaster - Flu Clinic
DESCRIPTION:Help fight off the flu with a timely in-and-out trip to the clinic.
URL:https://www.yvfwc.com/event/lancaster-family-health-center-at-lancaster-flu-clinic/2025-10-21/
LOCATION:Lancaster Family Health Center\, 255 Lancaster Drive NE\, Salem\, OR\, 97301\, United States
CATEGORIES:Vaccinations
ATTACH;FMTTYPE=image/jpeg:https://www.yvfwc.com/wp-content/uploads/2024/05/lancaster-family-health-center.jpg
END:VEVENT
END:VCALENDAR